BEGIN:VCALENDAR
VERSION:2.0
PRODID:-//ICT LABORATORY - ECPv5.6.0//NONSGML v1.0//EN
CALSCALE:GREGORIAN
METHOD:PUBLISH
X-WR-CALNAME:ICT LABORATORY
X-ORIGINAL-URL:https://ictlab.kz
X-WR-CALDESC:События для ICT LABORATORY
BEGIN:VTIMEZONE
TZID:UTC
BEGIN:STANDARD
TZOFFSETFROM:+0000
TZOFFSETTO:+0000
TZNAME:UTC
DTSTART:20200101T000000
END:STANDARD
END:VTIMEZONE
BEGIN:VEVENT
DTSTART;TZID=UTC:20200704T133000
DTEND;TZID=UTC:20200910T133000
DTSTAMP:20260420T051332
CREATED:20191023T082550Z
LAST-MODIFIED:20191023T082550Z
UID:251-1593869400-1599744600@ictlab.kz
SUMMARY:Meeting to change education system NASA
DESCRIPTION:I have traced the Rebel spies to her. Now she is my only link to finding their secret base. What?! I care. So\, what do you think of her\, Han? The Force is strong with this one. I have you now. But with the blast shield down\, I can’t even see! How am I supposed to fight? Red Five standing by.
URL:https://ictlab.kz/event/board-meeting/
LOCATION:Musee D’Orsay\, 1 Rue de la Légion d'Honneur\, Paris\, 75007\, France
CATEGORIES:Meeting
END:VEVENT
END:VCALENDAR