BEGIN:VCALENDAR
VERSION:2.0
PRODID:-//ICT LABORATORY - ECPv5.6.0//NONSGML v1.0//EN
CALSCALE:GREGORIAN
METHOD:PUBLISH
X-WR-CALNAME:ICT LABORATORY
X-ORIGINAL-URL:https://ictlab.kz
X-WR-CALDESC:События для ICT LABORATORY
BEGIN:VTIMEZONE
TZID:UTC
BEGIN:STANDARD
TZOFFSETFROM:+0000
TZOFFSETTO:+0000
TZNAME:UTC
DTSTART:20210101T000000
END:STANDARD
END:VTIMEZONE
BEGIN:VEVENT
DTSTART;TZID=UTC:20210801T010000
DTEND;TZID=UTC:20210803T000000
DTSTAMP:20260425T103615
CREATED:20191023T082550Z
LAST-MODIFIED:20191023T082550Z
UID:253-1627779600-1627948800@ictlab.kz
SUMMARY:Women education empowerment
DESCRIPTION:Well\, I got better. Ah\, now we see the violence inherent in the system! The swallow may fly south with the sun\, and the house martin or the plover may seek warmer climes in winter\, yet these are not strangers to our land. It’s only a model. It’s only a model.
URL:https://ictlab.kz/event/women-education-empowerment/
LOCATION:Party Haus\, 330 S Broadway Unit 602\, Los Angelos\, CA\, 90013\, united States
CATEGORIES:Meetup,Seminars
ORGANIZER;CN="Famous%20Amos":MAILTO:cookies@aol.com
END:VEVENT
END:VCALENDAR